BEGIN:VCALENDAR
VERSION:2.0
PRODID:-//jEvents 2.0 for Joomla//EN
CALSCALE:GREGORIAN
METHOD:PUBLISH
BEGIN:VTIMEZONE
TZID:Europe/Berlin
BEGIN:STANDARD
DTSTART:20251026T020000
RDATE:20260329T030000
TZOFFSETFROM:+0200
TZOFFSETTO:+0100
TZNAME:Europe/Berlin CET
END:STANDARD
BEGIN:STANDARD
DTSTART:20261025T020000
RDATE:20270328T030000
TZOFFSETFROM:+0200
TZOFFSETTO:+0100
TZNAME:Europe/Berlin CET
END:STANDARD
BEGIN:STANDARD
DTSTART:20271031T020000
RDATE:20280326T030000
TZOFFSETFROM:+0200
TZOFFSETTO:+0100
TZNAME:Europe/Berlin CET
END:STANDARD
BEGIN:DAYLIGHT
DTSTART:20250520T183000
RDATE:20251026T020000
TZOFFSETFROM:+0100
TZOFFSETTO:+0200
TZNAME:Europe/Berlin CEST
END:DAYLIGHT
BEGIN:DAYLIGHT
DTSTART:20260329T030000
RDATE:20261025T020000
TZOFFSETFROM:+0100
TZOFFSETTO:+0200
TZNAME:Europe/Berlin CEST
END:DAYLIGHT
BEGIN:DAYLIGHT
DTSTART:20270328T030000
RDATE:20271031T020000
TZOFFSETFROM:+0100
TZOFFSETTO:+0200
TZNAME:Europe/Berlin CEST
END:DAYLIGHT
END:VTIMEZONE
BEGIN:VEVENT
UID:7ea9553cd2472b69c1da41a4e8cdd2b1
CATEGORIES:Vereinstermine
CREATED:20260206T135259
SUMMARY:Mitgliederversammlung 2026
LOCATION:59494 Soest, Ulricher Str. 23, Aloisius Sudhaus
DESCRIPTION;ENCODING=QUOTED-PRINTABLE:<p>Liebe BGler*innen,</p><p>an diesem Abend findet die reguläre Mitgliederv
 ersammlung 2026 statt.</p><p>Ein Imbiss wird wie immer vorbereitet.</p><p>E
 inladung mit Tagesordnung folgt mind. 14 Tage zuvor. Anträge zur Versammlun
 g müssen bis einschließlich 13.05.2026 beim Vorsitzenden Pascal Fuisting (5
 9494 Soest, Kleine Osthofe 24) schriftlich vorliegen.</p><p> </p>
CONTACT:Pascal Fuisting
DTSTAMP:20260422T142902Z
DTSTART;TZID=Europe/Berlin:20260521T183000
DTEND;TZID=Europe/Berlin:20260521T220000
SEQUENCE:0
TRANSP:OPAQUE
END:VEVENT
END:VCALENDAR