BEGIN:VCALENDAR
VERSION:2.0
PRODID:-//jEvents 2.0 for Joomla//EN
CALSCALE:GREGORIAN
METHOD:PUBLISH
BEGIN:VTIMEZONE
TZID:Europe/Berlin
BEGIN:STANDARD
DTSTART:20250305T093000
RDATE:20250330T030000
TZOFFSETFROM:+0200
TZOFFSETTO:+0100
TZNAME:Europe/Berlin CET
END:STANDARD
BEGIN:STANDARD
DTSTART:20251026T020000
RDATE:20260329T030000
TZOFFSETFROM:+0200
TZOFFSETTO:+0100
TZNAME:Europe/Berlin CET
END:STANDARD
BEGIN:STANDARD
DTSTART:20261025T020000
RDATE:20270328T030000
TZOFFSETFROM:+0200
TZOFFSETTO:+0100
TZNAME:Europe/Berlin CET
END:STANDARD
BEGIN:STANDARD
DTSTART:20271031T020000
RDATE:20280326T030000
TZOFFSETFROM:+0200
TZOFFSETTO:+0100
TZNAME:Europe/Berlin CET
END:STANDARD
BEGIN:DAYLIGHT
DTSTART:20250330T030000
RDATE:20251026T020000
TZOFFSETFROM:+0100
TZOFFSETTO:+0200
TZNAME:Europe/Berlin CEST
END:DAYLIGHT
BEGIN:DAYLIGHT
DTSTART:20260329T030000
RDATE:20261025T020000
TZOFFSETFROM:+0100
TZOFFSETTO:+0200
TZNAME:Europe/Berlin CEST
END:DAYLIGHT
BEGIN:DAYLIGHT
DTSTART:20270328T030000
RDATE:20271031T020000
TZOFFSETFROM:+0100
TZOFFSETTO:+0200
TZNAME:Europe/Berlin CEST
END:DAYLIGHT
END:VTIMEZONE
BEGIN:VEVENT
UID:43fa33fb1e820f20f7599c9acd76aa50
CATEGORIES:Vereinstermine
CREATED:20260206T135426
SUMMARY:BG Frühstück
LOCATION:59494 Soest, Wiesenstr, Hotel Domhof
DESCRIPTION;ENCODING=QUOTED-PRINTABLE:<p>Für ALLE BG Mitglieder inclusive. Partner</p><p>Anmeldung erforderlich</
 p>
CONTACT:Michael Gröschler
X-EXTRAINFO:Anmeldung erforderlich bis 05.03.2026  10 Uhr
DTSTAMP:20260422T124832Z
DTSTART;TZID=Europe/Berlin:20260306T093000
DTEND;TZID=Europe/Berlin:20260306T110000
SEQUENCE:0
TRANSP:OPAQUE
END:VEVENT
END:VCALENDAR